BEGIN:VCALENDAR
VERSION:2.0
PRODID:-//Michael Angstadt//biweekly 0.6.8//EN
BEGIN:VEVENT
UID:d5ebb03e-125d-455e-8b2e-7db4fe7ab61e
DTSTAMP:20260420T152232Z
SUMMARY:Schadenkalkulation an Fahrzeugen mit Sonderaufbauten (2026-3422-10-
 01)
DTSTART:20260423T070000Z
DTEND:20260424T143000Z
DESCRIPTION:wichtiger Hinweis: ------------------------ Für einen reibungsl
 osen Ablauf bitten wir Sie\, einen eigenen Laptop mitzubringen. Bitte stel
 len Sie außerdem sicher\, dass Microsoft Excel auf Ihrem Laptop installier
 t und funktionsfähig ist\,  da während des Seminars praktisch damit gearbe
 itet wird.
LOCATION:GTÜ Kfz-Prüfstelle | ISB-K Ingenieur- & Sachverständigenbüro\, Zur 
 Halbinsel 5a\, 45356 Essen
PRIORITY:3
STATUS:CONFIRMED
URL:http://seminare.gtue.de:80/details.xhtml?k=sv-seminar&v=schadenkalkulat
 ion-an-fahrzeugen-mit-sonderaufbauten&vid=161450
X-ALT-DESC;FMTTYPE=text/html:<!DOCTYPE HTML PUBLIC "-//W3C//DTD HTML 3.2//E
 N"><HTML><HEAD><TITLE></TITLE></HEAD><BODY>null</BODY></HTML>
END:VEVENT
END:VCALENDAR
