BEGIN:VCALENDAR
VERSION:2.0
PRODID:-//Michael Angstadt//biweekly 0.6.8//EN
BEGIN:VEVENT
UID:931c6172-1b94-49ae-a2f8-d6b481863e1f
DTSTAMP:20260420T134550Z
SUMMARY:Schadenkalkulation an Fahrzeugen mit Sonderaufbauten (2026-3422-10-
 02)
DTSTART:20261106T080000Z
DTEND:20261107T153000Z
DESCRIPTION:wichtiger Hinweis: ------------------------ Für einen reibungsl
 osen Ablauf bitten wir Sie\, einen eigenen Laptop mitzubringen. Bitte stel
 len Sie außerdem sicher\, dass Microsoft Excel auf Ihrem Laptop installier
 t und funktionsfähig ist\,  da während des Seminars praktisch damit gearbe
 itet wird.
LOCATION:iBS Ingenieurbüro Braunschweig Partn. Ges.\, Fabrikstraße 6\, 3812
 2 Braunschweig
PRIORITY:3
STATUS:CONFIRMED
URL:http://seminare.gtue.de:80/details.xhtml?k=sv-seminar&v=schadenkalkulat
 ion-an-fahrzeugen-mit-sonderaufbauten&vid=161451
X-ALT-DESC;FMTTYPE=text/html:<!DOCTYPE HTML PUBLIC "-//W3C//DTD HTML 3.2//E
 N"><HTML><HEAD><TITLE></TITLE></HEAD><BODY>null</BODY></HTML>
END:VEVENT
END:VCALENDAR
